BEGIN:VCALENDAR
VERSION:2.0
PRODID:icalendar-ruby
CALSCALE:GREGORIAN
METHOD:PUBLISH
BEGIN:VEVENT
DTSTAMP:20260424T134045Z
UID:6-1334716@gfcct.org
DTSTART:20261020T230000Z
DTEND:20261021T003000Z
CLASS:PUBLIC
CREATED:20260424T081249
DESCRIPTION:Discover the power of fellowship and prayer at our weekly Praye
 r Service. Whether you seek solace\, guidance\, or simply wish to connect 
 with others in a spiritually enriching environment\, this event promises t
 o be a profound experience.
LAST-MODIFIED:20260424T081249
LOCATION:
SUMMARY:Prayer Service
URL;VALUE=URI:https://gfcct.org/events/prayer-service/2026-10-20
ATTACH;FILENAME=English-Prayer.png;FMTTYPE=image/png:https://dq5pwpg1q8ru0.
 cloudfront.net/2024/07/08/14/29/35/62ee10dd-0f8f-4661-92b8-020e35c06c82/En
 glish-Prayer.png
END:VEVENT
END:VCALENDAR
